BEGIN:VCALENDAR
VERSION:2.0
PRODID:-//Medicaid Health Plans of America - ECPv6.15.18//NONSGML v1.0//EN
CALSCALE:GREGORIAN
METHOD:PUBLISH
X-WR-CALNAME:Medicaid Health Plans of America
X-ORIGINAL-URL:https://medicaidplans.org
X-WR-CALDESC:Events for Medicaid Health Plans of America
REFRESH-INTERVAL;VALUE=DURATION:PT1H
X-Robots-Tag:noindex
X-PUBLISHED-TTL:PT1H
BEGIN:VTIMEZONE
TZID:America/New_York
BEGIN:DAYLIGHT
TZOFFSETFROM:-0500
TZOFFSETTO:-0400
TZNAME:EDT
DTSTART:20250309T070000
END:DAYLIGHT
BEGIN:STANDARD
TZOFFSETFROM:-0400
TZOFFSETTO:-0500
TZNAME:EST
DTSTART:20251102T060000
END:STANDARD
BEGIN:DAYLIGHT
TZOFFSETFROM:-0500
TZOFFSETTO:-0400
TZNAME:EDT
DTSTART:20260308T070000
END:DAYLIGHT
BEGIN:STANDARD
TZOFFSETFROM:-0400
TZOFFSETTO:-0500
TZNAME:EST
DTSTART:20261101T060000
END:STANDARD
BEGIN:DAYLIGHT
TZOFFSETFROM:-0500
TZOFFSETTO:-0400
TZNAME:EDT
DTSTART:20270314T070000
END:DAYLIGHT
BEGIN:STANDARD
TZOFFSETFROM:-0400
TZOFFSETTO:-0500
TZNAME:EST
DTSTART:20271107T060000
END:STANDARD
END:VTIMEZONE
BEGIN:VEVENT
DTSTART;TZID=America/New_York:20260520T130000
DTEND;TZID=America/New_York:20260520T140000
DTSTAMP:20260423T080528
CREATED:20260421T172816Z
LAST-MODIFIED:20260422T184300Z
UID:3989-1779282000-1779285600@medicaidplans.org
SUMMARY:Modernizing Medicaid Redetermination Engagement in the HR.1 Era
DESCRIPTION:With HR.1 introducing twice-annual redeterminations and work requirements\, Medicaid plans face rising complexity\, tighter timelines\, and increased enrollment volatility. Yet the primary risk isn’t eligibility—it’s communication. During the unwinding period\, nearly 71% of disenrollments were procedural\, driven by missed notices\, confusion\, and administrative barriers. \nIn this session\, experts from Santa Clara Family Health Plan and Ushur share how Medicaid plans are reducing preventable\, procedural disenrollment through proactive\, digital-first engagement. \nLearn how health plans are: \n\nEngaging hard-to-reach members earlier and more effectively throughout the redetermination process\nGuiding action with simplified\, timely two-way digital communication\nScaling outreach with automation while maintaining compliance\nReducing missed deadlines through proactive outbound and inbound support\nAmplifying member outreach within procedural disenrollment grace period\n\n  \nSpeaker: \nChelsea Byom\, Vice President\, Marketing\, Communications & Outreach at Santa Clara Family Health Plan \nYvonne Daugherty\, Global Head of Industries\, Ushur \n  \n \n  \n\nRegister Now
URL:https://medicaidplans.org/event/3989/
END:VEVENT
END:VCALENDAR